BEGIN:VCALENDAR
VERSION:2.0
PRODID:-//ox.ac.uk//NONSGML oxford.event//EN
X-WR-TIMEZONE:Europe/London
BEGIN:VTIMEZONE
TZID:Europe/London
X-LIC-LOCATION:Europe/London
BEGIN:DAYLIGHT
DTSTART;VALUE=DATE-TIME:19700329T010000
RRULE:FREQ=YEARLY;BYDAY=-1SU;BYMONTH=3
TZNAME:BST
TZOFFSETFROM:+0000
TZOFFSETTO:+0100
END:DAYLIGHT
BEGIN:STANDARD
DTSTART;VALUE=DATE-TIME:19701025T020000
RRULE:FREQ=YEARLY;BYDAY=-1SU;BYMONTH=10
TZNAME:GMT
TZOFFSETFROM:+0100
TZOFFSETTO:+0000
END:STANDARD
END:VTIMEZONE
BEGIN:VEVENT
SUMMARY:Writing a transfer report - two part online course
DTSTART;TZID=Europe/London;VALUE=DATE-TIME:20201214T090000
DTEND;TZID=Europe/London;VALUE=DATE-TIME:20260803T090000
DTSTAMP;VALUE=DATE-TIME:20260421T023831Z
UID:a70c6bed66c749e08cf84ad3f07a1ef7
CATEGORIES:communication-skills
CATEGORIES:research-skills
CATEGORIES:dphil-students
CREATED;VALUE=DATE-TIME:20201207T113047Z
DESCRIPTION:This interactive online MSD Skills training course complements
  'Transfer of status' and is most suitable for first-year DPhil students i
 n their second or third term who are preparing to write their transfer rep
 ort. First term DPhil students may find many of the exercises are not yet 
 helpful. Part 1 has to be completed in Canvas before booking links for the
  optional live sessions are made available.
LAST-MODIFIED;VALUE=DATE-TIME:20250828T081447Z
END:VEVENT
END:VCALENDAR
