BEGIN:VCALENDAR
VERSION:2.0
PRODID:-//ox.ac.uk//NONSGML oxford.event//EN
X-WR-TIMEZONE:Europe/London
BEGIN:VTIMEZONE
TZID:Europe/London
X-LIC-LOCATION:Europe/London
BEGIN:DAYLIGHT
DTSTART;VALUE=DATE-TIME:19700329T010000
RRULE:FREQ=YEARLY;BYDAY=-1SU;BYMONTH=3
TZNAME:BST
TZOFFSETFROM:+0000
TZOFFSETTO:+0100
END:DAYLIGHT
BEGIN:STANDARD
DTSTART;VALUE=DATE-TIME:19701025T020000
RRULE:FREQ=YEARLY;BYDAY=-1SU;BYMONTH=10
TZNAME:GMT
TZOFFSETFROM:+0100
TZOFFSETTO:+0000
END:STANDARD
END:VTIMEZONE
BEGIN:VEVENT
SUMMARY:Supervising a Research Student at Oxford: Rules and Procedures\, o
 nline
DTSTART;TZID=Europe/London;VALUE=DATE-TIME:20260604T100000
DTEND;TZID=Europe/London;VALUE=DATE-TIME:20260604T123000
DTSTAMP;VALUE=DATE-TIME:20260423T043044Z
UID:58e17e1c52ee465b85b4f5c951c32e70
CATEGORIES:research-skills
CREATED;VALUE=DATE-TIME:20260311T072116Z
DESCRIPTION:This is a 2.5 hour course for those in academic posts at the U
 niversity of Oxford with responsibility for training DPhil or MSc by Resea
 rch students.
LAST-MODIFIED;VALUE=DATE-TIME:20260311T072130Z
END:VEVENT
END:VCALENDAR
