BEGIN:VCALENDAR
VERSION:2.0
PRODID:-//ox.ac.uk//NONSGML oxford.event//EN
X-WR-TIMEZONE:Europe/London
BEGIN:VTIMEZONE
TZID:Europe/London
X-LIC-LOCATION:Europe/London
BEGIN:DAYLIGHT
DTSTART;VALUE=DATE-TIME:19700329T010000
RRULE:FREQ=YEARLY;BYDAY=-1SU;BYMONTH=3
TZNAME:BST
TZOFFSETFROM:+0000
TZOFFSETTO:+0100
END:DAYLIGHT
BEGIN:STANDARD
DTSTART;VALUE=DATE-TIME:19701025T020000
RRULE:FREQ=YEARLY;BYDAY=-1SU;BYMONTH=10
TZNAME:GMT
TZOFFSETFROM:+0100
TZOFFSETTO:+0000
END:STANDARD
END:VTIMEZONE
BEGIN:VEVENT
SUMMARY:Principles of data visualisation and big data handling\, online
DTSTART;TZID=Europe/London;VALUE=DATE-TIME:20260511T093000
DTEND;TZID=Europe/London;VALUE=DATE-TIME:20260513T120000
DTSTAMP;VALUE=DATE-TIME:20260421T023846Z
UID:422cb9df0b1e47f9802256c530f80b25
CATEGORIES:research-skills
CREATED;VALUE=DATE-TIME:20260306T070604Z
DESCRIPTION:This three half-day interactive course will teach you how to e
 ffectively visualize and manage large datasets.
LAST-MODIFIED;VALUE=DATE-TIME:20260306T070619Z
END:VEVENT
END:VCALENDAR
