BEGIN:VCALENDAR
VERSION:2.0
PRODID:-//ox.ac.uk//NONSGML oxford.event//EN
X-WR-TIMEZONE:Europe/London
BEGIN:VTIMEZONE
TZID:Europe/London
X-LIC-LOCATION:Europe/London
BEGIN:DAYLIGHT
DTSTART;VALUE=DATE-TIME:19700329T010000
RRULE:FREQ=YEARLY;BYDAY=-1SU;BYMONTH=3
TZNAME:BST
TZOFFSETFROM:+0000
TZOFFSETTO:+0100
END:DAYLIGHT
BEGIN:STANDARD
DTSTART;VALUE=DATE-TIME:19701025T020000
RRULE:FREQ=YEARLY;BYDAY=-1SU;BYMONTH=10
TZNAME:GMT
TZOFFSETFROM:+0100
TZOFFSETTO:+0000
END:STANDARD
END:VTIMEZONE
BEGIN:VEVENT
SUMMARY:Preparation for a successful final DPhil viva\, online
DTSTART;TZID=Europe/London;VALUE=DATE-TIME:20260507T100000
DTEND;TZID=Europe/London;VALUE=DATE-TIME:20260507T123000
DTSTAMP;VALUE=DATE-TIME:20260421T024004Z
UID:410198e740074f3e9c44a5e283199ee6
CATEGORIES:dphil-students
CATEGORIES:career-development
CATEGORIES:research-skills
CREATED;VALUE=DATE-TIME:20260309T082227Z
DESCRIPTION:This interactive online MSD Skills training course is most sui
 table for those in their third or fourth year of their DPhil preparing for
  their viva\, with focus on two main points. Part 1 - For those who haven
 ’t submitted their theses or appointed their examiners. Part 2 – For t
 hose who are doing final prep for their vivas. (after the 15’ break). NO
 T for transfer viva or MSc taught student.
LAST-MODIFIED;VALUE=DATE-TIME:20260309T084640Z
END:VEVENT
END:VCALENDAR
