BEGIN:VCALENDAR
VERSION:2.0
PRODID:-//ox.ac.uk//NONSGML oxford.event//EN
X-WR-TIMEZONE:Europe/London
BEGIN:VTIMEZONE
TZID:Europe/London
X-LIC-LOCATION:Europe/London
BEGIN:DAYLIGHT
DTSTART;VALUE=DATE-TIME:19700329T010000
RRULE:FREQ=YEARLY;BYDAY=-1SU;BYMONTH=3
TZNAME:BST
TZOFFSETFROM:+0000
TZOFFSETTO:+0100
END:DAYLIGHT
BEGIN:STANDARD
DTSTART;VALUE=DATE-TIME:19701025T020000
RRULE:FREQ=YEARLY;BYDAY=-1SU;BYMONTH=10
TZNAME:GMT
TZOFFSETFROM:+0100
TZOFFSETTO:+0000
END:STANDARD
END:VTIMEZONE
BEGIN:VEVENT
SUMMARY:MSD PLTO
DTSTART;TZID=Europe/London;VALUE=DATE-TIME:20210630T000000
DTEND;TZID=Europe/London;VALUE=DATE-TIME:20260803T120000
DTSTAMP;VALUE=DATE-TIME:20260421T023723Z
UID:85ec6bee9542430ba164328bd2870e2e
CATEGORIES:teaching-skills
CATEGORIES:communication-skills
CATEGORIES:career-development
CREATED;VALUE=DATE-TIME:20210630T092256Z
DESCRIPTION:MSD’s Preparing for Learning and Teaching at Oxford (PLTO) h
 as changed!  You have the choice of attending specific teaching streams 
 – ‘Taught Masters’ or ‘Tutorials’.
LAST-MODIFIED;VALUE=DATE-TIME:20250812T085408Z
END:VEVENT
END:VCALENDAR
