BEGIN:VCALENDAR
VERSION:2.0
PRODID:-//ox.ac.uk//NONSGML oxford.event//EN
X-WR-TIMEZONE:Europe/London
BEGIN:VTIMEZONE
TZID:Europe/London
X-LIC-LOCATION:Europe/London
BEGIN:DAYLIGHT
DTSTART;VALUE=DATE-TIME:19700329T010000
RRULE:FREQ=YEARLY;BYDAY=-1SU;BYMONTH=3
TZNAME:BST
TZOFFSETFROM:+0000
TZOFFSETTO:+0100
END:DAYLIGHT
BEGIN:STANDARD
DTSTART;VALUE=DATE-TIME:19701025T020000
RRULE:FREQ=YEARLY;BYDAY=-1SU;BYMONTH=10
TZNAME:GMT
TZOFFSETFROM:+0100
TZOFFSETTO:+0000
END:STANDARD
END:VTIMEZONE
BEGIN:VEVENT
SUMMARY:How to do a systematic review of qualitative research\, online
DTSTART;TZID=Europe/London;VALUE=DATE-TIME:20260528T093000
DTEND;TZID=Europe/London;VALUE=DATE-TIME:20260529T113000
DTSTAMP;VALUE=DATE-TIME:20260421T024111Z
UID:e8d667a3e48e45909d42cf833192fbfd
CATEGORIES:research-skills
CREATED;VALUE=DATE-TIME:20260310T090321Z
DESCRIPTION:This course is accessible and relevant to Medical Sciences Div
 ision postgraduate researchers who want to learn more about searching for 
 and synthesising qualitative research. The course leader (Dr Francine Toye
 ) had published and presented internationally in this area. Her aim is to 
 demystify qualitative research\, and to make it accessible and valuable fo
 r improved healthcare.
LAST-MODIFIED;VALUE=DATE-TIME:20260414T085250Z
END:VEVENT
END:VCALENDAR
