BEGIN:VCALENDAR
VERSION:2.0
PRODID:-//ox.ac.uk//NONSGML oxford.event//EN
X-WR-TIMEZONE:Europe/London
BEGIN:VTIMEZONE
TZID:Europe/London
X-LIC-LOCATION:Europe/London
BEGIN:DAYLIGHT
DTSTART;VALUE=DATE-TIME:19700329T010000
RRULE:FREQ=YEARLY;BYDAY=-1SU;BYMONTH=3
TZNAME:BST
TZOFFSETFROM:+0000
TZOFFSETTO:+0100
END:DAYLIGHT
BEGIN:STANDARD
DTSTART;VALUE=DATE-TIME:19701025T020000
RRULE:FREQ=YEARLY;BYDAY=-1SU;BYMONTH=10
TZNAME:GMT
TZOFFSETFROM:+0100
TZOFFSETTO:+0000
END:STANDARD
END:VTIMEZONE
BEGIN:VEVENT
SUMMARY:Confirmation of status\, online
DTSTART;TZID=Europe/London;VALUE=DATE-TIME:20260430T100000
DTEND;TZID=Europe/London;VALUE=DATE-TIME:20260430T113000
DTSTAMP;VALUE=DATE-TIME:20260421T023840Z
UID:7dc030566cb8431287ca2e3246c9c8dd
CATEGORIES:dphil-students
CATEGORIES:research-skills
CREATED;VALUE=DATE-TIME:20260309T071910Z
DESCRIPTION:This 1.5 hour workshops is aimed at MSD DPhil research student
 s and will provide clear guidance and advice as how to successfully prepar
 e and complete the process of Confirmation of Status.
LAST-MODIFIED;VALUE=DATE-TIME:20260309T071920Z
END:VEVENT
END:VCALENDAR
